BEGIN:VCALENDAR
VERSION:2.0
PRODID:-//Mrs. O&#039;Leary&#039;s Mercantile - ECPv6.15.20//NONSGML v1.0//EN
CALSCALE:GREGORIAN
METHOD:PUBLISH
X-ORIGINAL-URL:https://mrsolearysart.com
X-WR-CALDESC:Events for Mrs. O&#039;Leary&#039;s Mercantile
REFRESH-INTERVAL;VALUE=DURATION:PT1H
X-Robots-Tag:noindex
X-PUBLISHED-TTL:PT1H
BEGIN:VTIMEZONE
TZID:America/North_Dakota/Center
BEGIN:DAYLIGHT
TZOFFSETFROM:-0600
TZOFFSETTO:-0500
TZNAME:CDT
DTSTART:20200308T080000
END:DAYLIGHT
BEGIN:STANDARD
TZOFFSETFROM:-0500
TZOFFSETTO:-0600
TZNAME:CST
DTSTART:20201101T070000
END:STANDARD
BEGIN:DAYLIGHT
TZOFFSETFROM:-0600
TZOFFSETTO:-0500
TZNAME:CDT
DTSTART:20210314T080000
END:DAYLIGHT
BEGIN:STANDARD
TZOFFSETFROM:-0500
TZOFFSETTO:-0600
TZNAME:CST
DTSTART:20211107T070000
END:STANDARD
BEGIN:DAYLIGHT
TZOFFSETFROM:-0600
TZOFFSETTO:-0500
TZNAME:CDT
DTSTART:20220313T080000
END:DAYLIGHT
BEGIN:STANDARD
TZOFFSETFROM:-0500
TZOFFSETTO:-0600
TZNAME:CST
DTSTART:20221106T070000
END:STANDARD
BEGIN:DAYLIGHT
TZOFFSETFROM:-0600
TZOFFSETTO:-0500
TZNAME:CDT
DTSTART:20230312T080000
END:DAYLIGHT
BEGIN:STANDARD
TZOFFSETFROM:-0500
TZOFFSETTO:-0600
TZNAME:CST
DTSTART:20231105T070000
END:STANDARD
BEGIN:DAYLIGHT
TZOFFSETFROM:-0600
TZOFFSETTO:-0500
TZNAME:CDT
DTSTART:20240310T080000
END:DAYLIGHT
BEGIN:STANDARD
TZOFFSETFROM:-0500
TZOFFSETTO:-0600
TZNAME:CST
DTSTART:20241103T070000
END:STANDARD
BEGIN:DAYLIGHT
TZOFFSETFROM:-0600
TZOFFSETTO:-0500
TZNAME:CDT
DTSTART:20250309T080000
END:DAYLIGHT
BEGIN:STANDARD
TZOFFSETFROM:-0500
TZOFFSETTO:-0600
TZNAME:CST
DTSTART:20251102T070000
END:STANDARD
END:VTIMEZONE
BEGIN:VTIMEZONE
TZID:America/Chicago
BEGIN:DAYLIGHT
TZOFFSETFROM:-0600
TZOFFSETTO:-0500
TZNAME:CDT
DTSTART:20210314T080000
END:DAYLIGHT
BEGIN:STANDARD
TZOFFSETFROM:-0500
TZOFFSETTO:-0600
TZNAME:CST
DTSTART:20211107T070000
END:STANDARD
BEGIN:DAYLIGHT
TZOFFSETFROM:-0600
TZOFFSETTO:-0500
TZNAME:CDT
DTSTART:20220313T080000
END:DAYLIGHT
BEGIN:STANDARD
TZOFFSETFROM:-0500
TZOFFSETTO:-0600
TZNAME:CST
DTSTART:20221106T070000
END:STANDARD
BEGIN:DAYLIGHT
TZOFFSETFROM:-0600
TZOFFSETTO:-0500
TZNAME:CDT
DTSTART:20230312T080000
END:DAYLIGHT
BEGIN:STANDARD
TZOFFSETFROM:-0500
TZOFFSETTO:-0600
TZNAME:CST
DTSTART:20231105T070000
END:STANDARD
END:VTIMEZONE
BEGIN:VEVENT
DTSTART;TZID=America/North_Dakota/Center:20240406T103000
DTEND;TZID=America/North_Dakota/Center:20240406T150000
DTSTAMP:20260423T165311
CREATED:20240228T014957Z
LAST-MODIFIED:20240328T070817Z
UID:10000035-1712399400-1712415600@mrsolearysart.com
SUMMARY:Fashionista
DESCRIPTION:The book that started it all.  The origin of the Artful Bookshelf.  Using the early papers of Graphic 45 this little chubby book touts the history of early fashion. Charms\, silk ribbons & punch outs decorate the pages. Kits available for zoom.
URL:https://mrsolearysart.com/event/fashionista/
LOCATION:Mrs. O’Leary’s\, 126 N Mead\, Wichita\, KS\, 67202\, United States
CATEGORIES:Bookmaking,CLASS SCHEDULE
ATTACH;FMTTYPE=image/jpeg:https://mrsolearysart.com/wp-content/uploads/2024/02/Fashionista2.jpg
END:VEVENT
BEGIN:VEVENT
DTSTART;TZID=America/North_Dakota/Center:20240330T103000
DTEND;TZID=America/North_Dakota/Center:20240330T130000
DTSTAMP:20260423T165311
CREATED:20240228T012113Z
LAST-MODIFIED:20240326T151237Z
UID:10000028-1711794600-1711803600@mrsolearysart.com
SUMMARY:Art Therapy Junk Journal Techniques
DESCRIPTION:Work with different techniques in your junk journal using stamps\, distressed inks\, embossing plates\, stenciling\, collaging\, doodling pockets\, trims.
URL:https://mrsolearysart.com/event/art-therapy-junk-journal-techniques-2/
LOCATION:Mrs. O’Leary’s\, 126 N Mead\, Wichita\, KS\, 67202\, United States
END:VEVENT
BEGIN:VEVENT
DTSTART;TZID=America/North_Dakota/Center:20240323T120000
DTEND;TZID=America/North_Dakota/Center:20240323T143000
DTSTAMP:20260423T165311
CREATED:20240227T223546Z
LAST-MODIFIED:20240227T223546Z
UID:10000027-1711195200-1711204200@mrsolearysart.com
SUMMARY:Chalk Paint® by Annie Sloan
DESCRIPTION:What is your style?  Shabby Chic\, sleek modern?  Bring a cabinet door\, dresser drawers or small furniture piece\, i.e. chair\, end table etc. and learn to paint it in your style.  Bring or purchase paint\, brushes\, wax\, lacquer and any consumables such as sandpaper etc.  We have the drop cloths & rags and will guide you through your project. Turn garage sale finds\, or old pieces into fun furniture.  Upcycle! \nReturn to Finish – \nWax\, lacquer\, distress etc. Depending on the style how you choose to finish your piece it may take more or less time to complete.  If distressing or layering you will need to return to finish your piece.     $20 plus cost of paint/brushes/wax.
URL:https://mrsolearysart.com/event/chalk-paint-by-annie-sloan/
LOCATION:KS
END:VEVENT
BEGIN:VEVENT
DTSTART;TZID=America/North_Dakota/Center:20240323T100000
DTEND;TZID=America/North_Dakota/Center:20240323T113000
DTSTAMP:20260423T165311
CREATED:20240227T222900Z
LAST-MODIFIED:20240307T032729Z
UID:10000026-1711188000-1711193400@mrsolearysart.com
SUMMARY:Chalk Paint® by Annie Sloan Demo
DESCRIPTION:Watch a free demo on the ease of upscaling with Chalk Paint. Paint\, Layer\, Wax\, Finish. \n  \n  \n  \n  \n 
URL:https://mrsolearysart.com/event/chalk-paint-by-annie-sloan-demo/
LOCATION:Mrs. O’Leary’s\, 126 N Mead\, Wichita\, KS\, 67202\, United States
END:VEVENT
BEGIN:VEVENT
DTSTART;TZID=America/North_Dakota/Center:20240309T130000
DTEND;TZID=America/North_Dakota/Center:20240309T153000
DTSTAMP:20260423T165311
CREATED:20240227T161311Z
LAST-MODIFIED:20240227T163720Z
UID:10000025-1709989200-1709998200@mrsolearysart.com
SUMMARY:Wire Wraping
DESCRIPTION:Make a bracelet while learning the basics of wire wrapping both horizontal and vertical connections and tools used. Kits are available in several color options.  If you have your own tools please feel free to bring them.  We have a few to share in the classroom.  You Will need 1 round nose and 2 chain nose pliers and 1 flush cutter.  A nylon wire straightener is helpful.
URL:https://mrsolearysart.com/event/wire-wraping/
LOCATION:Mrs. O’Leary’s\, 126 N Mead\, Wichita\, KS\, 67202\, United States
ATTACH;FMTTYPE=image/jpeg:https://mrsolearysart.com/wp-content/uploads/2020/07/AquaBracelet.jpg
END:VEVENT
BEGIN:VEVENT
DTSTART;TZID=America/North_Dakota/Center:20240308T103000
DTEND;TZID=America/North_Dakota/Center:20240308T150000
DTSTAMP:20260423T165311
CREATED:20240227T153512Z
LAST-MODIFIED:20240227T221922Z
UID:10000024-1709893800-1709910000@mrsolearysart.com
SUMMARY:Book Binding Sampler
DESCRIPTION:Learn to make 4 different binding styles while making neutral color folios to take notes or journal.
URL:https://mrsolearysart.com/event/book-binding-sampler/
LOCATION:Mrs. O’Leary’s\, 126 N Mead\, Wichita\, KS\, 67202\, United States
CATEGORIES:Bookmaking
END:VEVENT
BEGIN:VEVENT
DTSTART;TZID=America/North_Dakota/Center:20240306T100000
DTEND;TZID=America/North_Dakota/Center:20240306T130000
DTSTAMP:20260423T165311
CREATED:20240228T003727Z
LAST-MODIFIED:20240228T031705Z
UID:10000033-1709719200-1709730000@mrsolearysart.com
SUMMARY:Tintype Book 2.0
DESCRIPTION:If you missed this class last week now you can catch it again.\nMarch 5\n#1 Tintype \nLearn to make 20 plus tintypes to use in our book.  available via zoom.  Order your kit now. \n\n#1 Covers\nStarting with 4X5 copper covers and a corrugated spine\, fabricate a hinged book form and drill holes for binding. Torch patina.  Decorate the cover with solder stamping overlay.   March 5\, 10AM-1pm \nMarch 6\n#2 Pocket Inclusions\nMake little books\, posts & mini cabinet cards to fill the11 pockets. \n\n#2 Binding\nCreate the hammered staples that bind the pages. Ask about tools and supplies needed if doing zoom.
URL:https://mrsolearysart.com/event/tintype-book-2-0-4/
LOCATION:Mrs. O’Leary’s\, 126 N Mead\, Wichita\, KS\, 67202\, United States
CATEGORIES:Bookmaking
ATTACH;FMTTYPE=image/jpeg:https://mrsolearysart.com/wp-content/uploads/2024/02/TTB2b300.jpg
END:VEVENT
BEGIN:VEVENT
DTSTART;TZID=America/North_Dakota/Center:20240305T100000
DTEND;TZID=America/North_Dakota/Center:20240305T130000
DTSTAMP:20260423T165311
CREATED:20240227T230709Z
LAST-MODIFIED:20240228T031437Z
UID:10000030-1709632800-1709643600@mrsolearysart.com
SUMMARY:Tintype Book 2.0
DESCRIPTION:If you missed this class last week now you can catch it again.\n\nMarch 5\n#1 Tintype \nLearn to make 20 plus tintypes to use in our book.  available via zoom.  Order your kit now. \n\n#1 Covers\nStarting with 4X5 copper covers and a corrugated spine\, fabricate a hinged book form and drill holes for binding. Torch patina.  Decorate the cover with solder stamping overlay.   March 5\, 10AM-1pm \n\nMarch 6\n\n#2 Pocket Inclusions\nMake little books\, posts & mini cabinet cards to fill the11 pockets. \n\n#2 Binding\nCreate the hammered staples that bind the pages. Ask about tools and supplies needed if doing zoom.
URL:https://mrsolearysart.com/event/21169/
LOCATION:Mrs. O’Leary’s\, 126 N Mead\, Wichita\, KS\, 67202\, United States
CATEGORIES:Bookmaking
ATTACH;FMTTYPE=image/jpeg:https://mrsolearysart.com/wp-content/uploads/2024/02/COVER.jpg
END:VEVENT
BEGIN:VEVENT
DTSTART;TZID=America/North_Dakota/Center:20221008T093000
DTEND;TZID=America/North_Dakota/Center:20221008T143000
DTSTAMP:20260423T165311
CREATED:20221007T064447Z
LAST-MODIFIED:20221007T064447Z
UID:10000018-1665221400-1665239400@mrsolearysart.com
SUMMARY:Betty's Vintage Christmas Book
DESCRIPTION:This slimline book measures 5 X 9” and has over 15 pages full of hidden pockets\, flip outs\, & tuck spots.  You’ll find lots of die cuts\, embellishments & ribbons with plenty of room to add your holiday  photos.  All kits come with the base of your book\,  pages are pre folded & ready to assemble & decorate.  All cut aparts & designer papers are cut to size .  You’ll get baggies full of ribbons\, tags\, & charms.  Written directions are included in your kit.
URL:https://mrsolearysart.com/event/bettys-vintage-christmas-book/
LOCATION:KS
END:VEVENT
BEGIN:VEVENT
DTSTART;TZID=America/North_Dakota/Center:20220728T130000
DTEND;TZID=America/North_Dakota/Center:20220728T143000
DTSTAMP:20260423T165311
CREATED:20220629T194900Z
LAST-MODIFIED:20220629T194900Z
UID:10000017-1659013200-1659018600@mrsolearysart.com
SUMMARY:Art Therapy Thursday - Buttons & Bows
DESCRIPTION:This little tin is covered with a distressed\, vintage pattern piece. We have used a bow\, a snippet of lace\, a couple buttons\, and a sewing scissor charm to decorate the outside of this altered altoid tin! This tin will hold needles\, thread\, and other sewing notions. There will be lots of ephemera to choose from\, so let your imagination sew!
URL:https://mrsolearysart.com/event/art-therapy-thursday-buttons-bows/
LOCATION:Mrs. O’Leary’s\, 126 N Mead\, Wichita\, KS\, 67202\, United States
ATTACH;FMTTYPE=image/jpeg:https://mrsolearysart.com/wp-content/uploads/2022/06/140a553e-5918-ceb8-d3a6-2ccf96b57bb8.jpeg
END:VEVENT
BEGIN:VEVENT
DTSTART;TZID=America/North_Dakota/Center:20220721T130000
DTEND;TZID=America/North_Dakota/Center:20220721T143000
DTSTAMP:20260423T165311
CREATED:20220604T181918Z
LAST-MODIFIED:20220628T182135Z
UID:10000015-1658408400-1658413800@mrsolearysart.com
SUMMARY:Altered Zipper Tag
DESCRIPTION:Do you have precious pictures stored away\, not knowing how to display them? Do you have recent photos sitting around waiting to be showcased? Then this class is for you! You can even use photos found around Mrs. O’Leary’s – we have a variety of vintage photos needing a home. You will be using a large tag covered with paper and a metal zipper. You can embellish it in your own style or follow the example of the sample. Sign up and join us in making this fun tag! \nAs an example of what you can do with this\, Vicki’s sample has a photo of her grandparents’ wedding and will have a copy of their marriage certificate tucked into a pocket on the back.
URL:https://mrsolearysart.com/event/altered-zipper-tag-2/
LOCATION:Mrs. O’Leary’s\, 126 N Mead\, Wichita\, KS\, 67202\, United States
ATTACH;FMTTYPE=image/jpeg:https://mrsolearysart.com/wp-content/uploads/2022/04/IMG_2570.jpg
END:VEVENT
BEGIN:VEVENT
DTSTART;TZID=America/North_Dakota/Center:20220714T130000
DTEND;TZID=America/North_Dakota/Center:20220714T150000
DTSTAMP:20260423T165311
CREATED:20220628T164420Z
LAST-MODIFIED:20220628T171246Z
UID:10000016-1657803600-1657810800@mrsolearysart.com
SUMMARY:Art Therapy Thursday - Hidden Treasures
DESCRIPTION:You will be designing a beautiful\, altered\, aged patina tin that is a wonderful vessel for a little handmade book. An antique postcard image was added for visual impact. An extra fun part of the project is looking through the many\, many charms and embellishments that Mrs. O’Leary’s has to offer! \nTo add whimsey to your little book\, add fabric\, lace\, and embroidery scraps. Vintage buttons and ephemera and stitching create areas for journaling or writing quotes. \nWe hope to see you for another Art Therapy Thursday! See images below for samples of the handmade book!
URL:https://mrsolearysart.com/event/art-therapy-thursday-hidden-treasures/
LOCATION:Mrs. O’Leary’s\, 126 N Mead\, Wichita\, KS\, 67202\, United States
ATTACH;FMTTYPE=image/jpeg:https://mrsolearysart.com/wp-content/uploads/2022/06/288517686_413134824033314_1942808159691422551_n.jpg
END:VEVENT
BEGIN:VEVENT
DTSTART;TZID=America/North_Dakota/Center:20220609T130000
DTEND;TZID=America/North_Dakota/Center:20220609T150000
DTSTAMP:20260423T165311
CREATED:20220603T175644Z
LAST-MODIFIED:20220603T175644Z
UID:10000014-1654779600-1654786800@mrsolearysart.com
SUMMARY:Art Therapy Thursday - Spring Greetings
DESCRIPTION:The debut class for Art Therapy Thursday will be June 9th where you will be creating this wonderful mixed media bird on canvas. You will be using paper scraps\, a 5×7 deep-edge canvas\, tissue paper\, and more to create this colorful feathered friend. \nIn class you will be patching together your own patchwork bird from scrap paper and applying it to the canvas base. The sample uses tissue paper\, scrapbook paper\, and an embossed paper bag for the background. You choose whether to stitch your bird together or not. Vicki’s neighbor will be providing the Wisteria branches that the bird perches on!
URL:https://mrsolearysart.com/event/art-therapy-thursday-spring-greetings/
LOCATION:Mrs. O’Leary’s\, 126 N Mead\, Wichita\, KS\, 67202\, United States
ATTACH;FMTTYPE=image/jpeg:https://mrsolearysart.com/wp-content/uploads/2022/06/IMG_2980.jpg
END:VEVENT
BEGIN:VEVENT
DTSTART;TZID=America/Chicago:20220521T100000
DTEND;TZID=America/Chicago:20220521T130000
DTSTAMP:20260423T165311
CREATED:20220421T152012Z
LAST-MODIFIED:20220511T174858Z
UID:10000013-1653127200-1653138000@mrsolearysart.com
SUMMARY:Altered Zipper Tag
DESCRIPTION:Do you have precious pictures stored away\, not knowing how to display them? Do you have recent photos sitting around waiting to be showcased? Then this class is for you! You can even use photos found around Mrs. O’Leary’s – we have a variety of vintage photos needing a home. You will be using a large tag covered with paper and a metal zipper. You can embellish it in your own style or follow the example of the sample. Sign up and join us in making this fun tag! \nAs an example of what you can do with this\, Vicki’s sample has a photo of her grandparents’ wedding and will have a copy of their marriage certificate tucked into a pocket on the back. \nCost of Class : $37\nTime : 10:00am – 1:00pm\nTeacher : Vicki
URL:https://mrsolearysart.com/event/altered-zipper-tag/
LOCATION:Mrs. O’Leary’s\, 126 N Mead\, Wichita\, KS\, 67202\, United States
ATTACH;FMTTYPE=image/jpeg:https://mrsolearysart.com/wp-content/uploads/2022/04/IMG_2570.jpg
END:VEVENT
BEGIN:VEVENT
DTSTART;TZID=America/Chicago:20220507T100000
DTEND;TZID=America/Chicago:20220507T140000
DTSTAMP:20260423T165311
CREATED:20220416T150147Z
LAST-MODIFIED:20220416T150621Z
UID:10000012-1651917600-1651932000@mrsolearysart.com
SUMMARY:Embellishments Class - Repeat
DESCRIPTION:Learn to create a variety of embellishments to use in your journals\, on tags\, on cards and envelopes – ANYWHERE your creative mind takes you! Some examples of what you will be learning to make are dingle dangles\, clusters\, flowers\, mini-envelopes\, coin holders\, tickets\, and specimen slides. \nBring your glue and any beads\, charms\, or little trinkets you want to use in class. Mrs. O’Leary’s has a wide range of stock if you want to purchase more! \nCost of class : $35\nTime : 10:00am – 2:00pm\nTeacher : Vicki
URL:https://mrsolearysart.com/event/embellishments-class-repeat/
LOCATION:KS
ATTACH;FMTTYPE=image/jpeg:https://mrsolearysart.com/wp-content/uploads/2022/03/IMG_2434.jpg
END:VEVENT
BEGIN:VEVENT
DTSTART;TZID=America/Chicago:20220423T100000
DTEND;TZID=America/Chicago:20220423T140000
DTSTAMP:20260423T165311
CREATED:20220330T162558Z
LAST-MODIFIED:20220416T150813Z
UID:10000011-1650708000-1650722400@mrsolearysart.com
SUMMARY:Embellishments Class
DESCRIPTION:Learn to create a variety of embellishments to use in your journals\, on tags\, on cards and envelopes – ANYWHERE your creative mind takes you! Some examples of what you will be learning to make are dingle dangles\, clusters\, flowers\, mini-envelopes\, coin holders\, tickets\, and specimen slides. \nBring your glue and any beads\, charms\, or little trinkets you want to use in class. Mrs. O’Leary’s has a wide range of stock if you want to purchase more! \nCost of class : $35\nTime : 10:00am – 2:00pm\nTeacher : Vicki \n 
URL:https://mrsolearysart.com/event/embellishments-class/
LOCATION:KS
ATTACH;FMTTYPE=image/jpeg:https://mrsolearysart.com/wp-content/uploads/2022/03/IMG_2434.jpg
END:VEVENT
BEGIN:VEVENT
DTSTART;TZID=America/North_Dakota/Center:20220129T100000
DTEND;TZID=America/North_Dakota/Center:20220129T160000
DTSTAMP:20260423T165311
CREATED:20211204T211824Z
LAST-MODIFIED:20211204T211824Z
UID:10000010-1643450400-1643472000@mrsolearysart.com
SUMMARY:Valentine Project
DESCRIPTION:TBA
URL:https://mrsolearysart.com/event/valentine-project/
LOCATION:KS
END:VEVENT
BEGIN:VEVENT
DTSTART;TZID=America/North_Dakota/Center:20220122T090000
DTEND;TZID=America/North_Dakota/Center:20220122T170000
DTSTAMP:20260423T165311
CREATED:20211204T190810Z
LAST-MODIFIED:20211204T202541Z
UID:10000009-1642842000-1642870800@mrsolearysart.com
SUMMARY:ZOOM - Tintype 2.0 Book - Part 3
DESCRIPTION:Part 3 – ZOOM only \nJanuary 22\, 9:00am – 5:00pm\nWe will finish our book by learning to bind with hand-forged staples. Even if your book isn’t completed in this session\, you will have everything at a point that can easily be completed on your own. You may not need all the time to complete your book and if you aren’t available to stay online through it all\, it will be recorded for you to watch later. \n\nCost of entire book class (Parts 1 – 3) : $175
URL:https://mrsolearysart.com/event/zoom-tintype-2-0-book-2022-01-22/
LOCATION:Mrs. O’Leary’s\, 126 N Mead\, Wichita\, KS\, 67202\, United States
END:VEVENT
BEGIN:VEVENT
DTSTART;TZID=America/North_Dakota/Center:20220115T090000
DTEND;TZID=America/North_Dakota/Center:20220115T170000
DTSTAMP:20260423T165311
CREATED:20211204T190810Z
LAST-MODIFIED:20211209T165405Z
UID:10000008-1642237200-1642266000@mrsolearysart.com
SUMMARY:ZOOM - Tintype 2.0 Book - Part 2
DESCRIPTION:Part 2 – ZOOM only \nJanuary 15\, 9:00am – 5:00pm\nMake this 4×5 copper book with corrugated metal spine and connect onto the cover frame with surplus aviation hinges. Learn flame coloring to achieve an array of vibrant colors to the covers. Solder stamp as desired and add trims. In the afternoon you will start on decorating your pages. Working on the inside of our book we will be stamping\, decorating\, and learning the assembly of pages. Pages will come pre-stamped with basic images or you can choose a set of blanks to do your own. \n\nCost of entire book class (Parts 1 – 3) : $175
URL:https://mrsolearysart.com/event/zoom-tintype-2-0-book-2022-01-15/
LOCATION:Mrs. O’Leary’s\, 126 N Mead\, Wichita\, KS\, 67202\, United States
ATTACH;FMTTYPE=image/jpeg:https://mrsolearysart.com/wp-content/uploads/2021/08/Tintypes2.jpg
END:VEVENT
BEGIN:VEVENT
DTSTART;TZID=America/North_Dakota/Center:20220113T180000
DTEND;TZID=America/North_Dakota/Center:20220113T220000
DTSTAMP:20260423T165311
CREATED:20211204T190810Z
LAST-MODIFIED:20211209T165357Z
UID:10000007-1642096800-1642111200@mrsolearysart.com
SUMMARY:ZOOM - Tintype 2.0 Book - Part 1
DESCRIPTION:Part 1 – ZOOM only \nJanuary 13\, 6:00pm – 10:00pm\nLearn Joni’s technique for creating vintage reproduction tintypes. You will be provided with materials to make up to 20 pieces. Fabricate the metal\, transfer the image\, patina for color\, and finished with stamped images and applied inks. The entire class included 15 hours of workshop time. \n\nCost of entire book class (Parts 1 – 3) : $175
URL:https://mrsolearysart.com/event/zoom-tintype-2-0-book/
LOCATION:Mrs. O’Leary’s\, 126 N Mead\, Wichita\, KS\, 67202\, United States
ATTACH;FMTTYPE=image/jpeg:https://mrsolearysart.com/wp-content/uploads/2021/08/Tintypes1.jpg
END:VEVENT
BEGIN:VEVENT
DTSTART;TZID=America/North_Dakota/Center:20220108T090000
DTEND;TZID=America/North_Dakota/Center:20220108T170000
DTSTAMP:20260423T165311
CREATED:20211204T170724Z
LAST-MODIFIED:20211204T203001Z
UID:10000006-1641632400-1641661200@mrsolearysart.com
SUMMARY:Tintype Book 2.0 - Part 3
DESCRIPTION:Part 3 \nJanuary 8\, 9am – 5pm\nDECORATING\, 9am – 12pm Working on the inside of our book we will be stamping\, decorating\, and learning the assembly of pages. Pages will come pre-stamped with basic images or you can choose a set of blanks to do your own. \nDECORATING – Continued\, 1pm – 5pm We will finish our book by learning to bind with hand-forged staples. Even if your book isn’t completed in this session\, you will have everything at a point that can easily be completed on your own. \n\nCost of entire book class (Parts 1 – 3) : $175\nInstructor : Joni \n  \n 
URL:https://mrsolearysart.com/event/tintype-book-2-0-2022-01-08/
LOCATION:Mrs. O’Leary’s\, 126 N Mead\, Wichita\, KS\, 67202\, United States
END:VEVENT
BEGIN:VEVENT
DTSTART;TZID=America/North_Dakota/Center:20220106T170000
DTEND;TZID=America/North_Dakota/Center:20220106T210000
DTSTAMP:20260423T165311
CREATED:20211204T170724Z
LAST-MODIFIED:20211209T165512Z
UID:10000019-1641488400-1641502800@mrsolearysart.com
SUMMARY:Tintype Book 2.0 - Part 2
DESCRIPTION:Part 2 \nJanuary 6\, 5pm – 9pm\nMake this 4×5 copper book with corrugated metal spine and connect onto the cover frame with surplus aviation hinges. Learn flame coloring to achieve an array of vibrant colors to the covers. Solder stamp as desired and add trims. \n\nCost of entire book class (Parts 1 – 3) : $175\nInstructor : Joni \n  \n 
URL:https://mrsolearysart.com/event/tintype-book-2-0-2022-01-06/
LOCATION:Mrs. O’Leary’s\, 126 N Mead\, Wichita\, KS\, 67202\, United States
ATTACH;FMTTYPE=image/jpeg:https://mrsolearysart.com/wp-content/uploads/2021/08/Tintypes2.jpg
END:VEVENT
BEGIN:VEVENT
DTSTART;TZID=America/North_Dakota/Center:20220104T100000
DTEND;TZID=America/North_Dakota/Center:20220104T150000
DTSTAMP:20260423T165311
CREATED:20211204T170724Z
LAST-MODIFIED:20220927T180853Z
UID:10000005-1641290400-1641308400@mrsolearysart.com
SUMMARY:Tintype Book 2.0 - Part 1
DESCRIPTION:Part 1 \nJanuary 4\, 10am – 3pm\nLearn Joni’s technique for creating vintage reproduction tintypes. You will be provided with materials to make up to 20 pieces. Fabricate the metal\, transfer the image\, patina for color\, and finished with stamped images and applied inks. The entire class included 15 hours of workshop time. \n\nCost of entire book class (Parts 1 – 3) : $175\nInstructor : Joni \n  \n 
URL:https://mrsolearysart.com/event/tintype-book-2-0/
LOCATION:Mrs. O’Leary’s\, 126 N Mead\, Wichita\, KS\, 67202\, United States
ATTACH;FMTTYPE=image/jpeg:https://mrsolearysart.com/wp-content/uploads/2021/08/Tintypes1.jpg
END:VEVENT
BEGIN:VEVENT
DTSTART;TZID=America/North_Dakota/Center:20211211T100000
DTEND;TZID=America/North_Dakota/Center:20211211T100000
DTSTAMP:20260423T165311
CREATED:20211126T194534Z
LAST-MODIFIED:20211209T165956Z
UID:10000004-1639216800-1639216800@mrsolearysart.com
SUMMARY:Enameled Bangels
DESCRIPTION:Start the class by learning to simply fabricate a copper angle bracelet that fits.  One straight\, one anti-clastic and the third a scalloped.   Using all the rich colors of glass you will layer both opaque and transparent enamels for a dazzling effect.  Additional bracelets will be available for purchase. \nCost of class : $50 \nInstructor : Joni
URL:https://mrsolearysart.com/event/enameled-bangels/
LOCATION:Mrs. O’Leary’s\, 126 N Mead\, Wichita\, KS\, 67202\, United States
ATTACH;FMTTYPE=image/jpeg:https://mrsolearysart.com/wp-content/uploads/2021/12/ENAMELD-BANGLESsm.jpg
END:VEVENT
BEGIN:VEVENT
DTSTART;TZID=America/North_Dakota/Center:20211204T100000
DTEND;TZID=America/North_Dakota/Center:20211204T160000
DTSTAMP:20260423T165311
CREATED:20211126T194352Z
LAST-MODIFIED:20211201T190237Z
UID:10000003-1638612000-1638633600@mrsolearysart.com
SUMMARY:Resin Angel Collage
DESCRIPTION:Create an angel cradled in a wood panel\, collaged with handmade paper\, vintage fabric\, and gemstones with other embellishments. All supplies are provided in class. \nCost of class : $95\nInstructor : Medeah \n \n 
URL:https://mrsolearysart.com/event/box-topper-santa-mrs-claus/
LOCATION:Mrs. O’Leary’s\, 126 N Mead\, Wichita\, KS\, 67202\, United States
END:VEVENT
BEGIN:VEVENT
DTSTART;TZID=America/North_Dakota/Center:20211127T100000
DTEND;TZID=America/North_Dakota/Center:20211127T160000
DTSTAMP:20260423T165311
CREATED:20211126T184944Z
LAST-MODIFIED:20211126T185916Z
UID:10000002-1638007200-1638028800@mrsolearysart.com
SUMMARY:Christmas Bottles
DESCRIPTION:Learn to add rows of solder\, trim\, and rhinestones to a bottle. No prior soldering experience is necessary. We have 4 solder irons to share or bring your own. I will instruct you on how to add a topper\, fillers\, and trims. Use wax\, stamps\, and glitter to create unique vintage tags. Lace\, ribbons\, and evergreens will compliment your bottle. Additional trims will be available for purchase. \nCost of class : $65\nInstructor : Joni
URL:https://mrsolearysart.com/event/christmas-bottles/
LOCATION:Mrs. O’Leary’s\, 126 N Mead\, Wichita\, KS\, 67202\, United States
END:VEVENT
END:VCALENDAR