BEGIN:VCALENDAR
VERSION:2.0
PRODID:-//Mrs. O&#039;Leary&#039;s Mercantile - ECPv6.15.20//NONSGML v1.0//EN
CALSCALE:GREGORIAN
METHOD:PUBLISH
X-ORIGINAL-URL:https://mrsolearysart.com
X-WR-CALDESC:Events for Mrs. O&#039;Leary&#039;s Mercantile
REFRESH-INTERVAL;VALUE=DURATION:PT1H
X-Robots-Tag:noindex
X-PUBLISHED-TTL:PT1H
BEGIN:VTIMEZONE
TZID:America/North_Dakota/Center
BEGIN:DAYLIGHT
TZOFFSETFROM:-0600
TZOFFSETTO:-0500
TZNAME:CDT
DTSTART:20230312T080000
END:DAYLIGHT
BEGIN:STANDARD
TZOFFSETFROM:-0500
TZOFFSETTO:-0600
TZNAME:CST
DTSTART:20231105T070000
END:STANDARD
BEGIN:DAYLIGHT
TZOFFSETFROM:-0600
TZOFFSETTO:-0500
TZNAME:CDT
DTSTART:20240310T080000
END:DAYLIGHT
BEGIN:STANDARD
TZOFFSETFROM:-0500
TZOFFSETTO:-0600
TZNAME:CST
DTSTART:20241103T070000
END:STANDARD
BEGIN:DAYLIGHT
TZOFFSETFROM:-0600
TZOFFSETTO:-0500
TZNAME:CDT
DTSTART:20250309T080000
END:DAYLIGHT
BEGIN:STANDARD
TZOFFSETFROM:-0500
TZOFFSETTO:-0600
TZNAME:CST
DTSTART:20251102T070000
END:STANDARD
END:VTIMEZONE
BEGIN:VEVENT
DTSTART;TZID=America/North_Dakota/Center:20240406T103000
DTEND;TZID=America/North_Dakota/Center:20240406T150000
DTSTAMP:20260423T104408
CREATED:20240228T014957Z
LAST-MODIFIED:20240328T070817Z
UID:10000035-1712399400-1712415600@mrsolearysart.com
SUMMARY:Fashionista
DESCRIPTION:The book that started it all.  The origin of the Artful Bookshelf.  Using the early papers of Graphic 45 this little chubby book touts the history of early fashion. Charms\, silk ribbons & punch outs decorate the pages. Kits available for zoom.
URL:https://mrsolearysart.com/event/fashionista/
LOCATION:Mrs. O’Leary’s\, 126 N Mead\, Wichita\, KS\, 67202\, United States
CATEGORIES:Bookmaking,CLASS SCHEDULE
ATTACH;FMTTYPE=image/jpeg:https://mrsolearysart.com/wp-content/uploads/2024/02/Fashionista2.jpg
END:VEVENT
END:VCALENDAR